BEGIN:VCALENDAR
PRODID:-//hacksw/handcal//NONSGML v1.0//EN
VERSION:2.0
METHOD:PUBLISH
BEGIN:VEVENT
DTSTART:20170426T184500Z
DTEND:20170426T203000Z
LOCATION:City Club
UID:1453220170426T184500Z Asset Protection for Retirement Plans
DTSTAMP:20260423T150523Z
DESCRIPTION:\nRetirement plans present a major planning opportunity for asset protection purposes. Both federal and state laws give retirement plans favorable treatment by providing owners of such plans a certain sense of security with respect to the assets within the plan. However, most of the protections afforded to plan participants are not available to their beneficiaries. This presentation will focus on the rights of creditors against owners and beneficiaries of retirement plans.\n \nAfshin Andrew Asher is the founder of Asher Law Group, APC. Mr. Asher limits his practice to the related areas of estate planning and administration, asset protection planning, probate, tax planning, business and business succession planning. Mr. Asher is Certified as a Legal Specialist in Estate Planning, Trust and Probate Law by the State Bar of California Board of Legal Specialization. Mr. Asher holds a Master of Law Degree in Taxation from Golden Gate University where he graduated with honors.\n
SUMMARY: Asset Protection for Retirement Plans - Los Angeles Estate Planning Council 
PRIORITY:3
BEGIN:VALARM
TRIGGER:PT18H
ACTION:DISPLAY
DESCRIPTION:Reminder
END:VALARM
END:VEVENT
END:VCALENDAR